BEGIN:VCALENDAR
VERSION:2.0
PRODID:-//Ashdown Sailing Club - ECPv6.15.12.2//NONSGML v1.0//EN
CALSCALE:GREGORIAN
METHOD:PUBLISH
X-WR-CALNAME:Ashdown Sailing Club
X-ORIGINAL-URL:https://ashdownsc.co.uk
X-WR-CALDESC:Events for Ashdown Sailing Club
REFRESH-INTERVAL;VALUE=DURATION:PT1H
X-Robots-Tag:noindex
X-PUBLISHED-TTL:PT1H
BEGIN:VTIMEZONE
TZID:Europe/London
BEGIN:DAYLIGHT
TZOFFSETFROM:+0000
TZOFFSETTO:+0100
TZNAME:BST
DTSTART:20250330T010000
END:DAYLIGHT
BEGIN:STANDARD
TZOFFSETFROM:+0100
TZOFFSETTO:+0000
TZNAME:GMT
DTSTART:20251026T010000
END:STANDARD
BEGIN:DAYLIGHT
TZOFFSETFROM:+0000
TZOFFSETTO:+0100
TZNAME:BST
DTSTART:20260329T010000
END:DAYLIGHT
BEGIN:STANDARD
TZOFFSETFROM:+0100
TZOFFSETTO:+0000
TZNAME:GMT
DTSTART:20261025T010000
END:STANDARD
BEGIN:DAYLIGHT
TZOFFSETFROM:+0000
TZOFFSETTO:+0100
TZNAME:BST
DTSTART:20270328T010000
END:DAYLIGHT
BEGIN:STANDARD
TZOFFSETFROM:+0100
TZOFFSETTO:+0000
TZNAME:GMT
DTSTART:20271031T010000
END:STANDARD
END:VTIMEZONE
BEGIN:VEVENT
DTSTART;VALUE=DATE:20260502
DTEND;VALUE=DATE:20260505
DTSTAMP:20260420T063316
CREATED:20260116T200312Z
LAST-MODIFIED:20260116T200349Z
UID:8597-1777680000-1777939199@ashdownsc.co.uk
SUMMARY:May Bank Holiday Rally: Yarmouth & Folly Inn
DESCRIPTION:Sorry\, but you do not have permission to view this content.
URL:https://ashdownsc.co.uk/event/may-bank-holiday-rally-yarmouth-folly-inn/
CATEGORIES:Sailing Event
ATTACH;FMTTYPE=image/jpeg:https://ashdownsc.co.uk/wp-content/uploads/2024/03/DSCN3321-scaled.jpg
ORGANIZER;CN="Ian Green":MAILTO:29greenian@gmail.com
END:VEVENT
BEGIN:VEVENT
DTSTART;VALUE=DATE:20260613
DTEND;VALUE=DATE:20260615
DTSTAMP:20260420T063316
CREATED:20260116T200802Z
LAST-MODIFIED:20260116T200802Z
UID:8599-1781308800-1781481599@ashdownsc.co.uk
SUMMARY:June Rally: Port Solent
DESCRIPTION:Sorry\, but you do not have permission to view this content.
URL:https://ashdownsc.co.uk/event/june-rally-port-solent/
CATEGORIES:Sailing Event
ATTACH;FMTTYPE=image/jpeg:https://ashdownsc.co.uk/wp-content/uploads/2024/03/DSCN9923-scaled.jpg
ORGANIZER;CN="Ian Green":MAILTO:29greenian@gmail.com
END:VEVENT
BEGIN:VEVENT
DTSTART;VALUE=DATE:20260718
DTEND;VALUE=DATE:20260809
DTSTAMP:20260420T063316
CREATED:20260116T201326Z
LAST-MODIFIED:20260116T201326Z
UID:8601-1784332800-1786233599@ashdownsc.co.uk
SUMMARY:Summer Cruise: West Country & Isles of Scilly
DESCRIPTION:Sorry\, but you do not have permission to view this content.
URL:https://ashdownsc.co.uk/event/summer-cruise-west-country-isles-of-scilly/
CATEGORIES:Sailing Event
ATTACH;FMTTYPE=image/jpeg:https://ashdownsc.co.uk/wp-content/uploads/2024/03/DSCN1004-scaled.jpg
ORGANIZER;CN="Ian Green":MAILTO:29greenian@gmail.com
END:VEVENT
BEGIN:VEVENT
DTSTART;VALUE=DATE:20260829
DTEND;VALUE=DATE:20260901
DTSTAMP:20260420T063316
CREATED:20260116T201901Z
LAST-MODIFIED:20260116T201901Z
UID:8603-1787961600-1788220799@ashdownsc.co.uk
SUMMARY:August Rally: Lymington & Southsea
DESCRIPTION:Sorry\, but you do not have permission to view this content.
URL:https://ashdownsc.co.uk/event/august-rally-lymington-southsea/
CATEGORIES:Sailing Event
ATTACH;FMTTYPE=image/jpeg:https://ashdownsc.co.uk/wp-content/uploads/2024/03/DSCN6818-scaled.jpg
ORGANIZER;CN="Ian Green":MAILTO:29greenian@gmail.com
END:VEVENT
BEGIN:VEVENT
DTSTART;VALUE=DATE:20260912
DTEND;VALUE=DATE:20260914
DTSTAMP:20260420T063316
CREATED:20260116T202233Z
LAST-MODIFIED:20260116T202233Z
UID:8605-1789171200-1789343999@ashdownsc.co.uk
SUMMARY:September Rally: Poole
DESCRIPTION:Sorry\, but you do not have permission to view this content.
URL:https://ashdownsc.co.uk/event/september-rally-poole/
CATEGORIES:Sailing Event
ATTACH;FMTTYPE=image/jpeg:https://ashdownsc.co.uk/wp-content/uploads/2024/03/DSCN7262-scaled.jpg
ORGANIZER;CN="Ian Green":MAILTO:29greenian@gmail.com
END:VEVENT
BEGIN:VEVENT
DTSTART;VALUE=DATE:20261010
DTEND;VALUE=DATE:20261012
DTSTAMP:20260420T063316
CREATED:20260116T202547Z
LAST-MODIFIED:20260116T202547Z
UID:8607-1791590400-1791763199@ashdownsc.co.uk
SUMMARY:October Rally: Marchwood
DESCRIPTION:Sorry\, but you do not have permission to view this content.
URL:https://ashdownsc.co.uk/event/october-rally-marchwood/
CATEGORIES:Sailing Event
ATTACH;FMTTYPE=image/jpeg:https://ashdownsc.co.uk/wp-content/uploads/2024/03/DSCN0027-scaled.jpg
ORGANIZER;CN="Ian Green":MAILTO:29greenian@gmail.com
END:VEVENT
BEGIN:VEVENT
DTSTART;VALUE=DATE:20261105
DTEND;VALUE=DATE:20261107
DTSTAMP:20260420T063316
CREATED:20260116T203027Z
LAST-MODIFIED:20260116T203027Z
UID:8609-1793836800-1794009599@ashdownsc.co.uk
SUMMARY:November Rally: Yarmouth Fireworks - Mid Week
DESCRIPTION:Sorry\, but you do not have permission to view this content.
URL:https://ashdownsc.co.uk/event/november-rally-yarmouth-fireworks-mid-week/
CATEGORIES:Sailing Event
ATTACH;FMTTYPE=image/jpeg:https://ashdownsc.co.uk/wp-content/uploads/2024/03/93.jpg
ORGANIZER;CN="Ian Green":MAILTO:29greenian@gmail.com
END:VEVENT
BEGIN:VEVENT
DTSTART;VALUE=DATE:20261212
DTEND;VALUE=DATE:20261214
DTSTAMP:20260420T063316
CREATED:20260116T203431Z
LAST-MODIFIED:20260116T203431Z
UID:8611-1797033600-1797206399@ashdownsc.co.uk
SUMMARY:Commodore's cruise: Cowes with Xmas Dinner
DESCRIPTION:Sorry\, but you do not have permission to view this content.
URL:https://ashdownsc.co.uk/event/commodores-cruise-cowes-with-xmas-dinner/
CATEGORIES:Sailing Event
ATTACH;FMTTYPE=image/jpeg:https://ashdownsc.co.uk/wp-content/uploads/2024/03/Christmas-at-east-Cowes-scaled.jpg
ORGANIZER;CN="Ian Green":MAILTO:29greenian@gmail.com
END:VEVENT
END:VCALENDAR