BEGIN:VCALENDAR
VERSION:2.0
PRODID:-//Ashdown Sailing Club - ECPv6.15.12.2//NONSGML v1.0//EN
CALSCALE:GREGORIAN
METHOD:PUBLISH
X-WR-CALNAME:Ashdown Sailing Club
X-ORIGINAL-URL:https://ashdownsc.co.uk
X-WR-CALDESC:Events for Ashdown Sailing Club
REFRESH-INTERVAL;VALUE=DURATION:PT1H
X-Robots-Tag:noindex
X-PUBLISHED-TTL:PT1H
BEGIN:VTIMEZONE
TZID:Europe/London
BEGIN:DAYLIGHT
TZOFFSETFROM:+0000
TZOFFSETTO:+0100
TZNAME:BST
DTSTART:20250330T010000
END:DAYLIGHT
BEGIN:STANDARD
TZOFFSETFROM:+0100
TZOFFSETTO:+0000
TZNAME:GMT
DTSTART:20251026T010000
END:STANDARD
BEGIN:DAYLIGHT
TZOFFSETFROM:+0000
TZOFFSETTO:+0100
TZNAME:BST
DTSTART:20260329T010000
END:DAYLIGHT
BEGIN:STANDARD
TZOFFSETFROM:+0100
TZOFFSETTO:+0000
TZNAME:GMT
DTSTART:20261025T010000
END:STANDARD
BEGIN:DAYLIGHT
TZOFFSETFROM:+0000
TZOFFSETTO:+0100
TZNAME:BST
DTSTART:20270328T010000
END:DAYLIGHT
BEGIN:STANDARD
TZOFFSETFROM:+0100
TZOFFSETTO:+0000
TZNAME:GMT
DTSTART:20271031T010000
END:STANDARD
END:VTIMEZONE
BEGIN:VEVENT
DTSTART;VALUE=DATE:20260403
DTEND;VALUE=DATE:20260407
DTSTAMP:20260420T101229
CREATED:20260116T195628Z
LAST-MODIFIED:20260116T195628Z
UID:8595-1775174400-1775519999@ashdownsc.co.uk
SUMMARY:Easter Rally: Littlehampton & Chichester
DESCRIPTION:Sorry\, but you do not have permission to view this content.
URL:https://ashdownsc.co.uk/event/easter-rally-littlehampton-chichester/
CATEGORIES:Sailing Event
ATTACH;FMTTYPE=image/jpeg:https://ashdownsc.co.uk/wp-content/uploads/2017/07/IMG-20251029-WA0016.jpg
ORGANIZER;CN="Ian Green":MAILTO:29greenian@gmail.com
END:VEVENT
END:VCALENDAR